BEGIN:VCALENDAR
VERSION:2.0
PRODID:-//ORMTA London - ECPv6.15.20//NONSGML v1.0//EN
CALSCALE:GREGORIAN
METHOD:PUBLISH
X-WR-CALNAME:ORMTA London
X-ORIGINAL-URL:https://ormtalondon.com
X-WR-CALDESC:Events for ORMTA London
REFRESH-INTERVAL;VALUE=DURATION:PT1H
X-Robots-Tag:noindex
X-PUBLISHED-TTL:PT1H
BEGIN:VTIMEZONE
TZID:America/Toronto
BEGIN:DAYLIGHT
TZOFFSETFROM:-0500
TZOFFSETTO:-0400
TZNAME:EDT
DTSTART:20240310T070000
END:DAYLIGHT
BEGIN:STANDARD
TZOFFSETFROM:-0400
TZOFFSETTO:-0500
TZNAME:EST
DTSTART:20241103T060000
END:STANDARD
BEGIN:DAYLIGHT
TZOFFSETFROM:-0500
TZOFFSETTO:-0400
TZNAME:EDT
DTSTART:20250309T070000
END:DAYLIGHT
BEGIN:STANDARD
TZOFFSETFROM:-0400
TZOFFSETTO:-0500
TZNAME:EST
DTSTART:20251102T060000
END:STANDARD
BEGIN:DAYLIGHT
TZOFFSETFROM:-0500
TZOFFSETTO:-0400
TZNAME:EDT
DTSTART:20260308T070000
END:DAYLIGHT
BEGIN:STANDARD
TZOFFSETFROM:-0400
TZOFFSETTO:-0500
TZNAME:EST
DTSTART:20261101T060000
END:STANDARD
END:VTIMEZONE
BEGIN:VEVENT
DTSTART;TZID=America/Toronto:20251214T140000
DTEND;TZID=America/Toronto:20251214T160000
DTSTAMP:20260422T011655
CREATED:20251003T091932Z
LAST-MODIFIED:20251003T092958Z
UID:2252-1765720800-1765728000@ormtalondon.com
SUMMARY:ORMTA London OakCrossing Winter Recital
DESCRIPTION:A chance to share the joy of the season in music with the residents of OakCrossing Retirement Home. \nRegistration deadline: Monday December 8th\, 2025
URL:https://ormtalondon.com/event/ormta-london-oakcrossing-winter-recital/
LOCATION:Oak Crossing Retirement Home\, 1238 Oakcrossing Road\, London\, Ontario\, N6H 0K2
END:VEVENT
END:VCALENDAR